BEGIN:VCALENDAR
VERSION:2.0
PRODID:icalendar-ruby
CALSCALE:GREGORIAN
METHOD:PUBLISH
BEGIN:VEVENT
DTSTAMP:20260422T080759Z
UID:5-485255@harvestchurchpa.org
DTSTART:20260816T140000Z
DTEND:20260816T150000Z
CLASS:PUBLIC
CREATED:20260421T210402
DESCRIPTION:Sunday Worship
LAST-MODIFIED:20260421T210402
LOCATION:
SUMMARY:Sunday Worship
URL;VALUE=URI:https://www.harvestchurchpa.org/events/sunday-worship/2026-08
 -16
END:VEVENT
END:VCALENDAR
