BEGIN:VCALENDAR
VERSION:2.0
PRODID:icalendar-ruby
CALSCALE:GREGORIAN
METHOD:PUBLISH
BEGIN:VEVENT
DTSTAMP:20260422T132302Z
UID:5-485615@harvestchurchpa.org
DTSTART:20260906T140000Z
DTEND:20260906T150000Z
CLASS:PUBLIC
CREATED:20260422T080911
DESCRIPTION:Sunday Worship
LAST-MODIFIED:20260422T080911
LOCATION:
SUMMARY:Sunday Worship
URL;VALUE=URI:https://www.harvestchurchpa.org/events/sunday-worship/2026-09
 -06
END:VEVENT
END:VCALENDAR
