BEGIN:VCALENDAR
VERSION:2.0
PRODID:icalendar-ruby
CALSCALE:GREGORIAN
METHOD:PUBLISH
BEGIN:VEVENT
DTSTAMP:20260422T182323Z
UID:5-486332@harvestchurchpa.org
DTSTART:20260927T140000Z
DTEND:20260927T150000Z
CLASS:PUBLIC
CREATED:20260422T135917
DESCRIPTION:Sunday Worship
LAST-MODIFIED:20260422T135917
LOCATION:
SUMMARY:Sunday Worship
URL;VALUE=URI:https://www.harvestchurchpa.org/events/sunday-worship/2026-09
 -27
END:VEVENT
END:VCALENDAR
