BEGIN:VCALENDAR
VERSION:2.0
PRODID:icalendar-ruby
CALSCALE:GREGORIAN
METHOD:PUBLISH
BEGIN:VEVENT
DTSTAMP:20260423T025233Z
UID:5-487408@harvestchurchpa.org
DTSTART:20261101T150000Z
DTEND:20261101T160000Z
CLASS:PUBLIC
CREATED:20260422T224003
DESCRIPTION:Sunday Worship
LAST-MODIFIED:20260422T224003
LOCATION:
SUMMARY:Sunday Worship
URL;VALUE=URI:https://www.harvestchurchpa.org/events/sunday-worship/2026-11
 -01
END:VEVENT
END:VCALENDAR
